BEGIN:VCALENDAR
VERSION:2.0
PRODID:-//jEvents 2.0 for Joomla//EN
CALSCALE:GREGORIAN
METHOD:PUBLISH
BEGIN:VTIMEZONE
TZID:Asia/Singapore
BEGIN:STANDARD
DTSTART:20200129T170000
RDATE:20380119T111407
TZOFFSETFROM:+0800
TZOFFSETTO:+0800
TZNAME:Asia/Singapore +08
END:STANDARD
END:VTIMEZONE
BEGIN:VEVENT
UID:5489042cd076fe07912b6615cbc6a3b7
CATEGORIES:General Meeting 
CREATED:20220119T135131
SUMMARY:APIEx ANNUAL GENERAL MEETING 2021 (29 January 2021)
DESCRIPTION:



 30 December 2020\n
NOTICE IS HEREBY GIVEN that the Annual General Meet
 ing of\nAsia Pacific Institute of Experts (“Society”) Will be Held Via Zoom
  Meeting on 29th January 2021 at 5.00pm\n
APIEx Members, please LOGIN (even
 ts/197-notice-agenda-of-apiex-annual-general-meeting-2021-friday-29-january
 -2022-5-00pm) for more details. \n




X-ALT-DESC;FMTTYPE=text/html:<table style="height: 138px;" width="949"><tbody><tr><td style="width: 939p
 x;"><p style="text-align: left;"><span style="font-family: georgia, palatin
 o, serif;"> <strong>30 December 2020</strong></span></p><p style="text-alig
 n: center;"><span style="font-family: georgia, palatino, serif;">NOTICE IS 
 HEREBY GIVEN that the Annual General Meeting of</span><br /><span style="fo
 nt-family: georgia, palatino, serif;">Asia Pacific Institute of Experts (“S
 ociety”) Will be Held Via Zoom Meeting <strong>on 29th January 2021 at 5.00
 pm</strong></span></p><p style="text-align: center;"><span style="font-fami
 ly: georgia, palatino, serif;">APIEx Members, please <a href="events/197-no
 tice-agenda-of-apiex-annual-general-meeting-2021-friday-29-january-2022-5-0
 0pm" target="_blank" rel="noopener noreferrer">LOGIN</a> for more details. 
 </span></p></td></tr></tbody></table>
DTSTAMP:20260420T191207Z
DTSTART;TZID=Asia/Singapore:20210129T170000
SEQUENCE:0
TRANSP:OPAQUE
END:VEVENT
END:VCALENDAR