BEGIN:VCALENDAR
VERSION:2.0
PRODID:-//jEvents 2.0 for Joomla//EN
CALSCALE:GREGORIAN
METHOD:PUBLISH
BEGIN:VTIMEZONE
TZID:Asia/Singapore
BEGIN:STANDARD
DTSTART:20210127T170000
RDATE:20380119T111407
TZOFFSETFROM:+0800
TZOFFSETTO:+0800
TZNAME:Asia/Singapore +08
END:STANDARD
END:VTIMEZONE
BEGIN:VEVENT
UID:c6f9d889e6f97fb8321adfcce772e50e
CATEGORIES:General Meeting 
CREATED:20220119T134014
SUMMARY:APIEx ANNUAL GENERAL MEETING 2022 (28 January 2022)
DESCRIPTION:



 27 December 2021\n
NOTICE IS HEREBY GIVEN that the Annual General Meet
 ing of\nAsia Pacific Institute of Experts (“Society”) Will be Held Via Zoom
  Meeting on 28th January 2022 at 5.00pm\n
APIEx Members, please LOGIN (even
 ts/204-notice-agenda-of-apiex-annual-general-meeting-2022-friday-28-january
 -2022-5-00pm) for more details. \n




X-ALT-DESC;FMTTYPE=text/html:<table style="height: 138px;" width="949"><tbody><tr><td style="width: 939p
 x;"><p style="text-align: left;"><span style="font-family: georgia, palatin
 o, serif;"> <strong>27 December 2021</strong></span></p><p style="text-alig
 n: center;"><span style="font-family: georgia, palatino, serif;">NOTICE IS 
 HEREBY GIVEN that the Annual General Meeting of</span><br /><span style="fo
 nt-family: georgia, palatino, serif;">Asia Pacific Institute of Experts (“S
 ociety”) Will be Held Via Zoom Meeting <strong>on 28th January 2022 at 5.00
 pm</strong></span></p><p style="text-align: center;"><span style="font-fami
 ly: georgia, palatino, serif;">APIEx Members, please <a href="events/204-no
 tice-agenda-of-apiex-annual-general-meeting-2022-friday-28-january-2022-5-0
 0pm" target="_blank" rel="noopener noreferrer">LOGIN</a> for more details. 
 </span></p></td></tr></tbody></table>
DTSTAMP:20260420T190802Z
DTSTART;TZID=Asia/Singapore:20220128T170000
SEQUENCE:0
TRANSP:OPAQUE
END:VEVENT
END:VCALENDAR